BEGIN:VCALENDAR
VERSION:2.0
PRODID:-//C.A.S. AMIGOS DEL BUCEO//NONSGML kigkonsult.se iCalcreator 2.30.1
 0//
CALSCALE:GREGORIAN
METHOD:PUBLISH
UID:50196d38-9deb-471a-bf00-c22c9484d58b
X-WR-CALNAME:iCagenda
X-WR-CALDESC:Event Management Extension for Joomla!
X-WR-RELCALID:3E26604A-50F4-4449-8B3E-E4F4932D05B5
X-WR-TIMEZONE:UTC
BEGIN:VTIMEZONE
TZID:UTC
END:VTIMEZONE
BEGIN:VEVENT
UID:5fa32fe0-8327-427e-a120-940eb59a72d1
DTSTAMP:20260422T082914Z
CATEGORIES:SALIDAS/INMERSIONES
CLASS:PUBLIC
DESCRIPTION;ALTREP="CID:<FFFF__=0ABBE548DFE235B58f9e8a93d@coffeebean.com>":
 PINCHA AQUI PARA VER LA METEO\n&nbsp\;\nPINCHA AQUI PARA VER EL ESTADO DE 
 LA MAR\n&nbsp\;\nPUNTOS DE INMERSIONES\n&nbsp\;&nbsp\;\n\n&nbsp\;\nPUNTO D
 E ENCUENTRO
DTSTART:20260420T090000Z
DTEND:20260420T090000Z
GEO:+39.460236;-0.316106
LOCATION:Marina Port Valencia Sur
ORGANIZER;CN=:info@amigosdelbuceo.es
SEQUENCE:1
SUMMARY:LUNES INMERSION EN VALENCIA CIUDAD
TRANSP:OPAQUE
URL:https://amigosdelbuceo.com/index.php/inmersiones/buceo-e-inmersion-en-v
 alencia-12/2026-04-20-09-00
END:VEVENT
END:VCALENDAR
